BEGIN:VCALENDAR
VERSION:2.0
PRODID:-//HSL Technologies - ECPv6.15.20//NONSGML v1.0//EN
CALSCALE:GREGORIAN
METHOD:PUBLISH
X-WR-CALNAME:HSL Technologies
X-ORIGINAL-URL:https://hsl.tech
X-WR-CALDESC:Events for HSL Technologies
REFRESH-INTERVAL;VALUE=DURATION:PT1H
X-Robots-Tag:noindex
X-PUBLISHED-TTL:PT1H
BEGIN:VTIMEZONE
TZID:Europe/Paris
BEGIN:DAYLIGHT
TZOFFSETFROM:+0100
TZOFFSETTO:+0200
TZNAME:CEST
DTSTART:20250330T010000
END:DAYLIGHT
BEGIN:STANDARD
TZOFFSETFROM:+0200
TZOFFSETTO:+0100
TZNAME:CET
DTSTART:20251026T010000
END:STANDARD
BEGIN:DAYLIGHT
TZOFFSETFROM:+0100
TZOFFSETTO:+0200
TZNAME:CEST
DTSTART:20260329T010000
END:DAYLIGHT
BEGIN:STANDARD
TZOFFSETFROM:+0200
TZOFFSETTO:+0100
TZNAME:CET
DTSTART:20261025T010000
END:STANDARD
BEGIN:DAYLIGHT
TZOFFSETFROM:+0100
TZOFFSETTO:+0200
TZNAME:CEST
DTSTART:20270328T010000
END:DAYLIGHT
BEGIN:STANDARD
TZOFFSETFROM:+0200
TZOFFSETTO:+0100
TZNAME:CET
DTSTART:20271031T010000
END:STANDARD
END:VTIMEZONE
BEGIN:VEVENT
DTSTART;VALUE=DATE:20260519
DTEND;VALUE=DATE:20260522
DTSTAMP:20260420T173206
CREATED:20260304T132051Z
LAST-MODIFIED:20260306T142430Z
UID:22099-1779148800-1779407999@hsl.tech
SUMMARY:World Hydrogen Summit & Exhibition - 2026
DESCRIPTION:World Hydrogen Summit & Exhibition is a leading global platform dedicated to accelerating large-scale hydrogen and CCUS deployment. Bringing together senior leaders from government\, industry\, finance\, and research\, the event plays a key role in shaping the international agenda for sustainable energy. \nOrganised by the Sustainable Energy Council\, now part of RX\, the Summit enables decision-makers to share insights\, build strategic partnerships\, and unlock investment opportunities. It is a major meeting point to advance hydrogen and CCUS projects worldwide and drive the transition toward a more sustainable energy future. \nHSL attendance: VisitorRotterdam\, Netherlands
URL:https://hsl.tech/event/world-hydrogen-summit-exhibition-2026/
LOCATION:Rotterdam\, Rotterdam\, Netherlands
ATTACH;FMTTYPE=image/png:https://hsl.tech/wp-content/uploads/2026/03/Logo-World-Hydrogen.png
END:VEVENT
BEGIN:VEVENT
DTSTART;VALUE=DATE:20260907
DTEND;VALUE=DATE:20260911
DTSTAMP:20260420T173206
CREATED:20260304T134144Z
LAST-MODIFIED:20260306T142713Z
UID:22103-1788739200-1789084799@hsl.tech
SUMMARY:CRU Silicon Market Forum - 2026
DESCRIPTION:CRU Silicon Market Forum 2026 is the essential annual gathering for the global silicon industry. Returning to Norway for its 16th edition\, the forum will bring together key producers\, consumers\, suppliers\, and traders of silicon metal\, polysilicon\, and silicones to connect\, exchange ideas\, and drive business forward. Hosted in Kristiansand with Elkem as Host Sponsor\, the event stands as the #1 networking platform for the sector. \nBuilding on previous editions\, the forum will address the major challenges shaping the industry\, with in-depth strategic discussions and expert analysis on supply dynamics\, cost pressures\, environmental considerations\, trade factors\, and future demand growth across key market segments. It is a unique opportunity to better understand market conditions and make informed business decisions. \nHSL attendance: VisitorKristiansand\, Norway
URL:https://hsl.tech/event/cru-silicon-market-forum-2026/
LOCATION:Kristiansand\, Kristiansand\, Norway
ATTACH;FMTTYPE=image/png:https://hsl.tech/wp-content/uploads/2026/03/Logo-CRU.png
END:VEVENT
END:VCALENDAR